BEGIN:VCALENDAR
VERSION:2.0
PRODID:-//ChamberMaster//Event Calendar 2.0//EN
METHOD:PUBLISH
X-PUBLISHED-TTL:P3D
REFRESH-INTERVAL:P3D
CALSCALE:GREGORIAN
BEGIN:VEVENT
DTSTART:20260502T170000Z
DTEND:20260502T220000Z
X-MICROSOFT-CDO-ALLDAYEVENT:FALSE
SUMMARY:Carnation Farms Spring Market
DESCRIPTION:Join us at Carnation Farms to welcome Spring in full bloom!\n\n\n\nEnjoy hot food from the outdoor pizza oven\, live music\, farmer-led tours around the crops\, and begin your spring garden with some organic plant-starts from our greenhouses (located in our Lower Farm area). Check out our sheep in the field and snap a picture of your little ones sitting on a historic tractor.\n\n\n\nLooking for a Mother's Day gift? You'll find over 20 local artisan vendors offering handmade soaps\, clothing\, art\, sweets\, gifts\, and more!\n\n\n\nJoin us for hourly Crops & Livestock Tours to visit our sheep in the pastures and learn how regenerative agriculture guides everything we do from soil health to animal care.\n\n\n\nIt will be a joyful day on the farm for the whole family! (just leave your pets at home\, please).
X-ALT-DESC;FMTTYPE=text/html:Join us at Carnation Farms to welcome Spring in full bloom!<br />\n<br />\nEnjoy hot food from the outdoor pizza oven\, live music\, farmer-led tours around the crops\, and begin your spring garden with some organic plant-starts from our greenhouses (located in our Lower Farm area). Check out our sheep in the field and snap a picture of your little ones sitting on a historic tractor.<br />\n<br />\nLooking for a Mother&rsquo\;s Day gift? You&rsquo\;ll find over 20 local artisan vendors offering handmade soaps\, clothing\, art\, sweets\, gifts\, and more!<br />\n<br />\nJoin us for hourly Crops &amp\; Livestock Tours to visit our sheep in the pastures and learn how regenerative agriculture guides everything we do&mdash\;from soil health to animal care.<br />\n<br />\nIt will be a joyful day on the farm for the whole family! (just leave your pets at home\, please).
LOCATION:Carnation Farms 28901 Northeast Carnation Farm Road Carnation\, WA 98014
UID:e.1840.24798
SEQUENCE:3
DTSTAMP:20260425T102358Z
URL:http://snovalley-gzcms.preview.gochambermaster.com/events/details/carnation-farms-spring-market-24798
END:VEVENT

END:VCALENDAR
